BEGIN:VCALENDAR
VERSION:2.0
PRODID:-//Berkshire Athletics - ECPv6.15.20//NONSGML v1.0//EN
CALSCALE:GREGORIAN
METHOD:PUBLISH
X-ORIGINAL-URL:https://www.berkshireathletics.org.uk
X-WR-CALDESC:Events for Berkshire Athletics
REFRESH-INTERVAL;VALUE=DURATION:PT1H
X-Robots-Tag:noindex
X-PUBLISHED-TTL:PT1H
BEGIN:VTIMEZONE
TZID:Europe/London
BEGIN:DAYLIGHT
TZOFFSETFROM:+0000
TZOFFSETTO:+0100
TZNAME:BST
DTSTART:20240331T010000
END:DAYLIGHT
BEGIN:STANDARD
TZOFFSETFROM:+0100
TZOFFSETTO:+0000
TZNAME:GMT
DTSTART:20241027T010000
END:STANDARD
BEGIN:DAYLIGHT
TZOFFSETFROM:+0000
TZOFFSETTO:+0100
TZNAME:BST
DTSTART:20250330T010000
END:DAYLIGHT
BEGIN:STANDARD
TZOFFSETFROM:+0100
TZOFFSETTO:+0000
TZNAME:GMT
DTSTART:20251026T010000
END:STANDARD
BEGIN:DAYLIGHT
TZOFFSETFROM:+0000
TZOFFSETTO:+0100
TZNAME:BST
DTSTART:20260329T010000
END:DAYLIGHT
BEGIN:STANDARD
TZOFFSETFROM:+0100
TZOFFSETTO:+0000
TZNAME:GMT
DTSTART:20261025T010000
END:STANDARD
END:VTIMEZONE
BEGIN:VEVENT
DTSTART;TZID=Europe/London:20250315T000000
DTEND;TZID=Europe/London:20250315T235959
DTSTAMP:20260423T100201
CREATED:20250221T101140Z
LAST-MODIFIED:20250221T101348Z
UID:10000005-1741996800-1742083199@www.berkshireathletics.org.uk
SUMMARY:English Schools Cross Country Championships
DESCRIPTION:The ESAA National Cross-Country Championship is the most eagerly anticipated event of the winter for young athletes. \nWe bring together the best athletes in each of the 46 Counties in England to compete for the honour of being the best in the Country.
URL:https://www.berkshireathletics.org.uk/event/english-schools-cross-country-championships/
LOCATION:Ardingly\, South of England Showground\, Selsfield Road\, Ardingly\, West Sussex\, RH17 6TL\, United Kingdom
CATEGORIES:Schools
END:VEVENT
END:VCALENDAR