BEGIN:VCALENDAR
VERSION:2.0
PRODID:-//Berkshire Athletics - ECPv6.15.20//NONSGML v1.0//EN
CALSCALE:GREGORIAN
METHOD:PUBLISH
X-ORIGINAL-URL:https://www.berkshireathletics.org.uk
X-WR-CALDESC:Events for Berkshire Athletics
REFRESH-INTERVAL;VALUE=DURATION:PT1H
X-Robots-Tag:noindex
X-PUBLISHED-TTL:PT1H
BEGIN:VTIMEZONE
TZID:Europe/London
BEGIN:DAYLIGHT
TZOFFSETFROM:+0000
TZOFFSETTO:+0100
TZNAME:BST
DTSTART:20240331T010000
END:DAYLIGHT
BEGIN:STANDARD
TZOFFSETFROM:+0100
TZOFFSETTO:+0000
TZNAME:GMT
DTSTART:20241027T010000
END:STANDARD
BEGIN:DAYLIGHT
TZOFFSETFROM:+0000
TZOFFSETTO:+0100
TZNAME:BST
DTSTART:20250330T010000
END:DAYLIGHT
BEGIN:STANDARD
TZOFFSETFROM:+0100
TZOFFSETTO:+0000
TZNAME:GMT
DTSTART:20251026T010000
END:STANDARD
BEGIN:DAYLIGHT
TZOFFSETFROM:+0000
TZOFFSETTO:+0100
TZNAME:BST
DTSTART:20260329T010000
END:DAYLIGHT
BEGIN:STANDARD
TZOFFSETFROM:+0100
TZOFFSETTO:+0000
TZNAME:GMT
DTSTART:20261025T010000
END:STANDARD
END:VTIMEZONE
BEGIN:VEVENT
DTSTART;TZID=Europe/London:20250118T000000
DTEND;TZID=Europe/London:20250118T235959
DTSTAMP:20260423T123250
CREATED:20250223T160255Z
LAST-MODIFIED:20250306T205857Z
UID:10000015-1737158400-1737244799@www.berkshireathletics.org.uk
SUMMARY:Berkshire Schools Cross Country Championships
DESCRIPTION:Results available below for the Berkshire Schools Cross Country Championships. Well done to all athletes that raced today. The top 16 in the U15\, U17 and U19 age groups have qualified to represent Berkshire at the SE Inter counties XC Champs on Saturday 1st February at Newbury. Athletes should respond to the google form on the selection letter they received at the finish time. \nBerkshire Schools Cross Country Championships 2025 Results
URL:https://www.berkshireathletics.org.uk/event/berkshire-schools-cross-country-championships/
LOCATION:Newbury Showground\, Priors Court Road\, Hermitage\, Thatcham\, Berkshire\, RG18 9NU\, United Kingdom
CATEGORIES:Schools
END:VEVENT
END:VCALENDAR