BEGIN:VCALENDAR
VERSION:2.0
PRODID:-//Berkshire Athletics - ECPv6.15.20//NONSGML v1.0//EN
CALSCALE:GREGORIAN
METHOD:PUBLISH
X-WR-CALNAME:Berkshire Athletics
X-ORIGINAL-URL:https://www.berkshireathletics.org.uk
X-WR-CALDESC:Events for Berkshire Athletics
REFRESH-INTERVAL;VALUE=DURATION:PT1H
X-Robots-Tag:noindex
X-PUBLISHED-TTL:PT1H
BEGIN:VTIMEZONE
TZID:Europe/London
BEGIN:DAYLIGHT
TZOFFSETFROM:+0000
TZOFFSETTO:+0100
TZNAME:BST
DTSTART:20240331T010000
END:DAYLIGHT
BEGIN:STANDARD
TZOFFSETFROM:+0100
TZOFFSETTO:+0000
TZNAME:GMT
DTSTART:20241027T010000
END:STANDARD
BEGIN:DAYLIGHT
TZOFFSETFROM:+0000
TZOFFSETTO:+0100
TZNAME:BST
DTSTART:20250330T010000
END:DAYLIGHT
BEGIN:STANDARD
TZOFFSETFROM:+0100
TZOFFSETTO:+0000
TZNAME:GMT
DTSTART:20251026T010000
END:STANDARD
BEGIN:DAYLIGHT
TZOFFSETFROM:+0000
TZOFFSETTO:+0100
TZNAME:BST
DTSTART:20260329T010000
END:DAYLIGHT
BEGIN:STANDARD
TZOFFSETFROM:+0100
TZOFFSETTO:+0000
TZNAME:GMT
DTSTART:20261025T010000
END:STANDARD
END:VTIMEZONE
BEGIN:VEVENT
DTSTART;TZID=Europe/London:20251007T100000
DTEND;TZID=Europe/London:20251007T140000
DTSTAMP:20260422T233351
CREATED:20250808T081049Z
LAST-MODIFIED:20250808T081049Z
UID:10000027-1759831200-1759845600@www.berkshireathletics.org.uk
SUMMARY:ESAA Schools Cup Cross Country - Berkshire round
DESCRIPTION:This is the Berkshire schools round of the ESAA Schools Cup Cross Country Championships. \nBeing hosted by Reading Blue Coat School on Tuesday 7th October at 10.00am \nTo enter your school must have entered with ESAA – https://esaa.org.uk/product/cross-country-cup-2025/  \nInfo here: https://esaa.org.uk/competitions/cross-country-cup/  \n\n\nCross Country Schools Cup 2025\n\n\n\n\nJuniors: Under 14: normally Years 7/8\n\n\n\n\nInters: Under 16: normally Years 9/10\nSeniors: Under 19: normally Years 11/12/13\nAges at 31st August 2026 (End of 2025-26 School Year)\nTeams of 6 runners with best 4 scoring – Not individuals\nLocal county based First Rounds are held in September/October\nRegional Finals will be held during\nthe week commencing 3rd November\, 2025\nNational Finals will be hosted by Princethorpe College\, Rugby\, Warwickshire.\nCV23 9PX on Saturday 6th December 2025
URL:https://www.berkshireathletics.org.uk/event/esaa-schools-cup-cross-country-berkshire-round/
LOCATION:Reading Blue Coat School\, Sonning Lane\, Sonning\, Reading\, Berkshire\, RG4 6SU\, United Kingdom
CATEGORIES:Schools
END:VEVENT
END:VCALENDAR