BEGIN:VCALENDAR
VERSION:2.0
PRODID:-//Berkshire Athletics - ECPv6.15.20//NONSGML v1.0//EN
CALSCALE:GREGORIAN
METHOD:PUBLISH
X-ORIGINAL-URL:https://www.berkshireathletics.org.uk
X-WR-CALDESC:Events for Berkshire Athletics
REFRESH-INTERVAL;VALUE=DURATION:PT1H
X-Robots-Tag:noindex
X-PUBLISHED-TTL:PT1H
BEGIN:VTIMEZONE
TZID:Europe/London
BEGIN:DAYLIGHT
TZOFFSETFROM:+0000
TZOFFSETTO:+0100
TZNAME:BST
DTSTART:20240331T010000
END:DAYLIGHT
BEGIN:STANDARD
TZOFFSETFROM:+0100
TZOFFSETTO:+0000
TZNAME:GMT
DTSTART:20241027T010000
END:STANDARD
BEGIN:DAYLIGHT
TZOFFSETFROM:+0000
TZOFFSETTO:+0100
TZNAME:BST
DTSTART:20250330T010000
END:DAYLIGHT
BEGIN:STANDARD
TZOFFSETFROM:+0100
TZOFFSETTO:+0000
TZNAME:GMT
DTSTART:20251026T010000
END:STANDARD
BEGIN:DAYLIGHT
TZOFFSETFROM:+0000
TZOFFSETTO:+0100
TZNAME:BST
DTSTART:20260329T010000
END:DAYLIGHT
BEGIN:STANDARD
TZOFFSETFROM:+0100
TZOFFSETTO:+0000
TZNAME:GMT
DTSTART:20261025T010000
END:STANDARD
END:VTIMEZONE
BEGIN:VEVENT
DTSTART;TZID=Europe/London:20250506T000000
DTEND;TZID=Europe/London:20250506T235959
DTSTAMP:20260423T054451
CREATED:20250223T153201Z
LAST-MODIFIED:20250223T153201Z
UID:10000011-1746489600-1746575999@www.berkshireathletics.org.uk
SUMMARY:Berkshire Schools Combined Events Championships
DESCRIPTION:
URL:https://www.berkshireathletics.org.uk/event/berkshire-schools-combined-events-championships/
LOCATION:John Nike Stadium\, Bracknell Leisure Centre\, Bracknell\, Berkshire\, RG12 7NN\, United Kingdom
CATEGORIES:Schools
END:VEVENT
END:VCALENDAR