BEGIN:VCALENDAR
VERSION:2.0
PRODID:-//Berkshire Athletics - ECPv6.15.20//NONSGML v1.0//EN
CALSCALE:GREGORIAN
METHOD:PUBLISH
X-ORIGINAL-URL:https://www.berkshireathletics.org.uk
X-WR-CALDESC:Events for Berkshire Athletics
REFRESH-INTERVAL;VALUE=DURATION:PT1H
X-Robots-Tag:noindex
X-PUBLISHED-TTL:PT1H
BEGIN:VTIMEZONE
TZID:Europe/London
BEGIN:DAYLIGHT
TZOFFSETFROM:+0000
TZOFFSETTO:+0100
TZNAME:BST
DTSTART:20240331T010000
END:DAYLIGHT
BEGIN:STANDARD
TZOFFSETFROM:+0100
TZOFFSETTO:+0000
TZNAME:GMT
DTSTART:20241027T010000
END:STANDARD
BEGIN:DAYLIGHT
TZOFFSETFROM:+0000
TZOFFSETTO:+0100
TZNAME:BST
DTSTART:20250330T010000
END:DAYLIGHT
BEGIN:STANDARD
TZOFFSETFROM:+0100
TZOFFSETTO:+0000
TZNAME:GMT
DTSTART:20251026T010000
END:STANDARD
BEGIN:DAYLIGHT
TZOFFSETFROM:+0000
TZOFFSETTO:+0100
TZNAME:BST
DTSTART:20260329T010000
END:DAYLIGHT
BEGIN:STANDARD
TZOFFSETFROM:+0100
TZOFFSETTO:+0000
TZNAME:GMT
DTSTART:20261025T010000
END:STANDARD
END:VTIMEZONE
BEGIN:VEVENT
DTSTART;TZID=Europe/London:20251124T193000
DTEND;TZID=Europe/London:20251124T213000
DTSTAMP:20260422T230330
CREATED:20251110T130755Z
LAST-MODIFIED:20251110T130755Z
UID:10000028-1764012600-1764019800@www.berkshireathletics.org.uk
SUMMARY:Berkshire Athletics AGM
DESCRIPTION:Time: 7:30 pm \nPlace: Bracknell AC Clubhouse \nPlease see AGM news article for all relevant documents.
URL:https://www.berkshireathletics.org.uk/event/berkshire-athletics-agm-2/
CATEGORIES:Administration
END:VEVENT
END:VCALENDAR